Package: BulkSignalR Version: 1.3.1 Command: /home/biocbuild/bbs-3.23-bioc/R/bin/R CMD INSTALL BulkSignalR StartedAt: 2025-11-18 16:51:34 -0500 (Tue, 18 Nov 2025) EndedAt: 2025-11-18 16:52:23 -0500 (Tue, 18 Nov 2025) EllapsedTime: 48.9 seconds RetCode: 0 Status: OK