Package: BulkSignalR Version: 1.3.1 Command: /home/biocbuild/bbs-3.23-bioc/R/bin/R CMD build --keep-empty-dirs --no-resave-data BulkSignalR StartedAt: 2025-11-18 17:26:41 -0500 (Tue, 18 Nov 2025) EndedAt: 2025-11-18 17:30:32 -0500 (Tue, 18 Nov 2025) EllapsedTime: 231.2 seconds RetCode: 0 Status: OK PackageFile: BulkSignalR_1.3.1.tar.gz PackageFileSize: 2.983 MiB