Package: BufferedMatrix Version: 1.75.0 Maintainer: Ben Bolstad MaintainerEmail: bmb at bmbolstad.com git_url: https://git.bioconductor.org/packages/BufferedMatrix git_branch: devel git_last_commit: ecdbf23 git_last_commit_date: 2025-10-29 09:58:55 -0500 (Wed, 29 Oct 2025)