Package: BubbleTree Version: 2.41.0 Command: /home/biocbuild/bbs-3.23-bioc/R/bin/R CMD build --keep-empty-dirs --no-resave-data BubbleTree StartedAt: 2025-11-07 16:33:16 -0500 (Fri, 07 Nov 2025) EndedAt: 2025-11-07 16:34:33 -0500 (Fri, 07 Nov 2025) EllapsedTime: 77.1 seconds RetCode: 1 Status: ERROR PackageFile: None PackageFileSize: NA