Package: BubbleTree Version: 2.41.0 Maintainer: Todd Creasy , Wei Zhu MaintainerEmail: weizhu365 at gmail.com git_url: https://git.bioconductor.org/packages/BubbleTree git_branch: devel git_last_commit: ec3708e git_last_commit_date: 2025-10-29 10:24:01 -0500 (Wed, 29 Oct 2025)