Package: BloodGen3Module Version: 1.19.0 Maintainer: Darawan Rinchai MaintainerEmail: drinchai at gmail.com git_url: https://git.bioconductor.org/packages/BloodGen3Module git_branch: devel git_last_commit: 825e116 git_last_commit_date: 2025-10-29 11:09:33 -0500 (Wed, 29 Oct 2025)