Package: BiocWorkflowTools Version: 1.37.0 Maintainer: Mike Smith MaintainerEmail: grimbough at gmail.com git_url: https://git.bioconductor.org/packages/BiocWorkflowTools git_branch: devel git_last_commit: 23b271e git_last_commit_date: 2025-10-29 10:34:19 -0500 (Wed, 29 Oct 2025)