Package: BiocParallel Version: 1.45.0 Command: /home/biocbuild/bbs-3.23-bioc/R/bin/R CMD INSTALL BiocParallel StartedAt: 2025-11-09 15:04:07 -0500 (Sun, 09 Nov 2025) EndedAt: 2025-11-09 15:04:21 -0500 (Sun, 09 Nov 2025) EllapsedTime: 14.1 seconds RetCode: 0 Status: OK