Package: BiocParallel Version: 1.45.0 Command: /home/biocbuild/bbs-3.23-bioc/R/bin/R CMD build --keep-empty-dirs --no-resave-data BiocParallel StartedAt: 2025-11-09 16:27:12 -0500 (Sun, 09 Nov 2025) EndedAt: 2025-11-09 16:28:38 -0500 (Sun, 09 Nov 2025) EllapsedTime: 86.1 seconds RetCode: 0 Status: OK PackageFile: BiocParallel_1.45.0.tar.gz PackageFileSize: 1.052 MiB