Package: BiocFileCache Version: 3.1.0 Command: /home/biocbuild/bbs-3.23-bioc/R/bin/R CMD INSTALL BiocFileCache StartedAt: 2025-11-09 15:08:54 -0500 (Sun, 09 Nov 2025) EndedAt: 2025-11-09 15:09:03 -0500 (Sun, 09 Nov 2025) EllapsedTime: 8.5 seconds RetCode: 0 Status: OK