Package: BiocBaseUtils Version: 1.13.0 Command: /home/biocbuild/bbs-3.23-bioc/R/bin/R CMD INSTALL BiocBaseUtils StartedAt: 2025-11-07 15:02:48 -0500 (Fri, 07 Nov 2025) EndedAt: 2025-11-07 15:02:56 -0500 (Fri, 07 Nov 2025) EllapsedTime: 8.5 seconds RetCode: 0 Status: OK