Package: BioTIP Version: 1.25.0 Command: /home/biocbuild/bbs-3.23-bioc/R/bin/R CMD build --keep-empty-dirs --no-resave-data BioTIP StartedAt: 2025-11-07 16:29:27 -0500 (Fri, 07 Nov 2025) EndedAt: 2025-11-07 16:30:59 -0500 (Fri, 07 Nov 2025) EllapsedTime: 92.1 seconds RetCode: 0 Status: OK PackageFile: BioTIP_1.25.0.tar.gz PackageFileSize: 8.651 MiB