Package: BioTIP Version: 1.25.0 Maintainer: Felix Yu and X Holly Yang MaintainerEmail: xyang2 at uchicago.edu git_url: https://git.bioconductor.org/packages/BioTIP git_branch: devel git_last_commit: ba9af28 git_last_commit_date: 2025-10-29 10:54:37 -0500 (Wed, 29 Oct 2025)