Package: BioNet Version: 1.71.0 Command: /home/biocbuild/bbs-3.23-bioc/R/bin/R CMD INSTALL BioNet StartedAt: 2025-11-09 15:25:28 -0500 (Sun, 09 Nov 2025) EndedAt: 2025-11-09 15:25:41 -0500 (Sun, 09 Nov 2025) EllapsedTime: 13.6 seconds RetCode: 0 Status: OK