Package: BioNet Version: 1.71.0 Maintainer: Marcus Dittrich MaintainerEmail: marcus.dittrich at biozentrum.uni-wuerzburg.de git_url: https://git.bioconductor.org/packages/BioNet git_branch: devel git_last_commit: 9742714 git_last_commit_date: 2025-10-29 10:05:29 -0500 (Wed, 29 Oct 2025)