Package: BioMVCClass Version: 1.79.0 Command: /home/biocbuild/bbs-3.23-bioc/R/bin/R CMD INSTALL BioMVCClass StartedAt: 2025-11-07 15:15:05 -0500 (Fri, 07 Nov 2025) EndedAt: 2025-11-07 15:15:09 -0500 (Fri, 07 Nov 2025) EllapsedTime: 4.3 seconds RetCode: 0 Status: OK