Package: BioMVCClass Version: 1.79.0 Command: /home/biocbuild/bbs-3.23-bioc/R/bin/R CMD build --keep-empty-dirs --no-resave-data BioMVCClass StartedAt: 2025-11-07 16:28:45 -0500 (Fri, 07 Nov 2025) EndedAt: 2025-11-07 16:28:52 -0500 (Fri, 07 Nov 2025) EllapsedTime: 7.0 seconds RetCode: 0 Status: OK PackageFile: BioMVCClass_1.79.0.tar.gz PackageFileSize: 131.3 KiB