Package: BioMVCClass Version: 1.79.0 Maintainer: Elizabeth Whalen MaintainerEmail: ewhalen at hsph.harvard.edu git_url: https://git.bioconductor.org/packages/BioMVCClass git_branch: devel git_last_commit: 901e3c4 git_last_commit_date: 2025-10-29 09:58:24 -0500 (Wed, 29 Oct 2025)