Package: BioGA Version: 1.5.0 Command: /home/biocbuild/bbs-3.23-bioc/R/bin/R CMD build --keep-empty-dirs --no-resave-data BioGA StartedAt: 2025-11-20 16:29:38 -0500 (Thu, 20 Nov 2025) EndedAt: 2025-11-20 16:30:33 -0500 (Thu, 20 Nov 2025) EllapsedTime: 55.0 seconds RetCode: 0 Status: OK PackageFile: BioGA_1.5.0.tar.gz PackageFileSize: 328.5 KiB