Package: BioCartaImage Version: 1.9.0 Command: /home/biocbuild/bbs-3.23-bioc/R/bin/R CMD INSTALL BioCartaImage StartedAt: 2025-11-14 15:03:49 -0500 (Fri, 14 Nov 2025) EndedAt: 2025-11-14 15:04:08 -0500 (Fri, 14 Nov 2025) EllapsedTime: 19.1 seconds RetCode: 0 Status: OK