Package: BatchSVG Version: 1.3.0 Command: /home/biocbuild/bbs-3.23-bioc/R/bin/R CMD build --keep-empty-dirs --no-resave-data BatchSVG StartedAt: 2025-11-07 16:20:06 -0500 (Fri, 07 Nov 2025) EndedAt: 2025-11-07 16:22:59 -0500 (Fri, 07 Nov 2025) EllapsedTime: 173.1 seconds RetCode: 0 Status: OK PackageFile: BatchSVG_1.3.0.tar.gz PackageFileSize: 1.543 MiB