Package: BatchSVG Version: 1.3.0 Maintainer: Kinnary Shah MaintainerEmail: kinnaryshahh at gmail.com git_url: https://git.bioconductor.org/packages/BatchSVG git_branch: devel git_last_commit: 6a1beca git_last_commit_date: 2025-10-29 11:36:00 -0500 (Wed, 29 Oct 2025)