Package: BasicSTARRseq Version: 1.39.0 Command: /home/biocbuild/bbs-3.23-bioc/R/bin/R CMD INSTALL BasicSTARRseq StartedAt: 2025-11-09 15:25:15 -0500 (Sun, 09 Nov 2025) EndedAt: 2025-11-09 15:25:41 -0500 (Sun, 09 Nov 2025) EllapsedTime: 26.6 seconds RetCode: 0 Status: OK