Package: BasicSTARRseq Version: 1.39.0 Maintainer: Annika Buerger MaintainerEmail: annika.buerger at ukmuenster.de git_url: https://git.bioconductor.org/packages/BasicSTARRseq git_branch: devel git_last_commit: 9023bc9 git_last_commit_date: 2025-10-29 10:29:46 -0500 (Wed, 29 Oct 2025)