Package: Basic4Cseq Version: 1.47.0 Maintainer: Carolin Walter MaintainerEmail: carolin.walter at uni-muenster.de git_url: https://git.bioconductor.org/packages/Basic4Cseq git_branch: devel git_last_commit: fe75bd1 git_last_commit_date: 2025-10-29 10:18:19 -0500 (Wed, 29 Oct 2025)