Package: BaseSpaceR Version: 1.55.0 Command: /home/biocbuild/bbs-3.23-bioc/R/bin/R CMD INSTALL BaseSpaceR StartedAt: 2025-11-23 15:04:45 -0500 (Sun, 23 Nov 2025) EndedAt: 2025-11-23 15:04:59 -0500 (Sun, 23 Nov 2025) EllapsedTime: 13.4 seconds RetCode: 0 Status: OK