Package: BASiCS Version: 2.23.0 Command: /home/biocbuild/bbs-3.23-bioc/R/bin/R CMD build --keep-empty-dirs --no-resave-data BASiCS StartedAt: 2025-11-07 16:18:24 -0500 (Fri, 07 Nov 2025) EndedAt: 2025-11-07 16:20:17 -0500 (Fri, 07 Nov 2025) EllapsedTime: 113.1 seconds RetCode: 0 Status: OK PackageFile: BASiCS_2.23.0.tar.gz PackageFileSize: 3.199 MiB