Package: BASiCS Version: 2.23.0 Maintainer: Catalina Vallejos MaintainerEmail: catalina.vallejos at igmm.ed.ac.uk git_url: https://git.bioconductor.org/packages/BASiCS git_branch: devel git_last_commit: c192aba git_last_commit_date: 2025-10-29 10:41:03 -0500 (Wed, 29 Oct 2025)