Package: ArrayExpress Version: 1.71.0 Maintainer: Jose Marugan MaintainerEmail: jcmarca at ebi.ac.uk git_url: https://git.bioconductor.org/packages/ArrayExpress git_branch: devel git_last_commit: 4a25159 git_last_commit_date: 2025-10-29 10:01:28 -0500 (Wed, 29 Oct 2025)