Package: AnnotationForge Version: 1.53.0 Command: /home/biocbuild/bbs-3.23-bioc/R/bin/R CMD INSTALL AnnotationForge StartedAt: 2025-11-14 15:26:37 -0500 (Fri, 14 Nov 2025) EndedAt: 2025-11-14 15:26:54 -0500 (Fri, 14 Nov 2025) EllapsedTime: 16.9 seconds RetCode: 0 Status: OK