Package: AnnotationForge Version: 1.53.0 Command: /home/biocbuild/bbs-3.23-bioc/R/bin/R CMD build --keep-empty-dirs --no-resave-data AnnotationForge StartedAt: 2025-11-14 16:12:35 -0500 (Fri, 14 Nov 2025) EndedAt: 2025-11-14 16:15:19 -0500 (Fri, 14 Nov 2025) EllapsedTime: 164.2 seconds RetCode: 0 Status: OK PackageFile: AnnotationForge_1.53.0.tar.gz PackageFileSize: 3.838 MiB