Package: AnVILBase Version: 1.5.0 Command: /home/biocbuild/bbs-3.23-bioc/R/bin/R CMD build --keep-empty-dirs --no-resave-data AnVILBase StartedAt: 2025-11-07 16:11:53 -0500 (Fri, 07 Nov 2025) EndedAt: 2025-11-07 16:11:59 -0500 (Fri, 07 Nov 2025) EllapsedTime: 6.0 seconds RetCode: 0 Status: OK PackageFile: AnVILBase_1.5.0.tar.gz PackageFileSize: 227.9 KiB