Package: AWAggregator Version: 1.1.0 Command: /home/biocbuild/bbs-3.23-bioc/R/bin/R CMD INSTALL AWAggregator StartedAt: 2025-11-09 15:10:07 -0500 (Sun, 09 Nov 2025) EndedAt: 2025-11-09 15:10:15 -0500 (Sun, 09 Nov 2025) EllapsedTime: 7.9 seconds RetCode: 0 Status: OK