Package: AWAggregator Version: 1.1.0 Command: /home/biocbuild/bbs-3.23-bioc/R/bin/R CMD build --keep-empty-dirs --no-resave-data AWAggregator StartedAt: 2025-11-09 16:14:45 -0500 (Sun, 09 Nov 2025) EndedAt: 2025-11-09 16:20:04 -0500 (Sun, 09 Nov 2025) EllapsedTime: 319.3 seconds RetCode: 0 Status: OK PackageFile: AWAggregator_1.1.0.tar.gz PackageFileSize: 273.6 KiB