Package: ATACseqQC Version: 1.35.0 Command: /home/biocbuild/bbs-3.23-bioc/R/bin/R CMD INSTALL ATACseqQC StartedAt: 2025-11-11 15:57:31 -0500 (Tue, 11 Nov 2025) EndedAt: 2025-11-11 15:57:43 -0500 (Tue, 11 Nov 2025) EllapsedTime: 12.0 seconds RetCode: 1 Status: ERROR