Package: ASICS Version: 2.27.0 Command: /home/biocbuild/bbs-3.23-bioc/R/bin/R CMD INSTALL ASICS StartedAt: 2025-11-07 15:22:04 -0500 (Fri, 07 Nov 2025) EndedAt: 2025-11-07 15:22:39 -0500 (Fri, 07 Nov 2025) EllapsedTime: 34.7 seconds RetCode: 0 Status: OK