Package: ARRmNormalization Version: 1.51.0 Command: /home/biocbuild/bbs-3.23-bioc/R/bin/R CMD INSTALL ARRmNormalization StartedAt: 2025-11-09 15:03:23 -0500 (Sun, 09 Nov 2025) EndedAt: 2025-11-09 15:03:42 -0500 (Sun, 09 Nov 2025) EllapsedTime: 19.1 seconds RetCode: 0 Status: OK