Package: ARRmNormalization Version: 1.51.0 Command: /home/biocbuild/bbs-3.23-bioc/R/bin/R CMD build --keep-empty-dirs --no-resave-data ARRmNormalization StartedAt: 2025-11-09 16:12:49 -0500 (Sun, 09 Nov 2025) EndedAt: 2025-11-09 16:13:16 -0500 (Sun, 09 Nov 2025) EllapsedTime: 27.0 seconds RetCode: 0 Status: OK PackageFile: ARRmNormalization_1.51.0.tar.gz PackageFileSize: 1.075 MiB