Package: ADaCGH2 Version: 2.51.0 Command: /home/biocbuild/bbs-3.23-bioc/R/bin/R CMD INSTALL ADaCGH2 StartedAt: 2025-11-14 15:57:56 -0500 (Fri, 14 Nov 2025) EndedAt: 2025-11-14 15:58:20 -0500 (Fri, 14 Nov 2025) EllapsedTime: 23.8 seconds RetCode: 0 Status: OK