Package: ADaCGH2 Version: 2.51.0 Command: /home/biocbuild/bbs-3.23-bioc/R/bin/R CMD build --keep-empty-dirs --no-resave-data ADaCGH2 StartedAt: 2025-11-14 16:08:25 -0500 (Fri, 14 Nov 2025) EndedAt: 2025-11-14 16:10:13 -0500 (Fri, 14 Nov 2025) EllapsedTime: 108.1 seconds RetCode: 0 Status: OK PackageFile: ADaCGH2_2.51.0.tar.gz PackageFileSize: 1.172 MiB