Package: ADAMgui Version: 1.27.0 Command: /home/biocbuild/bbs-3.23-bioc/R/bin/R CMD build --keep-empty-dirs --no-resave-data ADAMgui StartedAt: 2025-11-23 16:08:31 -0500 (Sun, 23 Nov 2025) EndedAt: 2025-11-23 16:09:11 -0500 (Sun, 23 Nov 2025) EllapsedTime: 40.1 seconds RetCode: 0 Status: OK PackageFile: ADAMgui_1.27.0.tar.gz PackageFileSize: 1.746 MiB