Package: ABarray Version: 1.79.0 Command: /home/biocbuild/bbs-3.23-bioc/R/bin/R CMD INSTALL ABarray StartedAt: 2025-11-09 15:13:54 -0500 (Sun, 09 Nov 2025) EndedAt: 2025-11-09 15:14:03 -0500 (Sun, 09 Nov 2025) EllapsedTime: 8.8 seconds RetCode: 0 Status: OK