Package: ABarray Version: 1.79.0 Command: /home/biocbuild/bbs-3.23-bioc/R/bin/R CMD build --keep-empty-dirs --no-resave-data ABarray StartedAt: 2025-11-09 16:06:58 -0500 (Sun, 09 Nov 2025) EndedAt: 2025-11-09 16:07:12 -0500 (Sun, 09 Nov 2025) EllapsedTime: 14.0 seconds RetCode: 0 Status: OK PackageFile: ABarray_1.79.0.tar.gz PackageFileSize: 686.2 KiB