Package: ABarray Version: 1.79.0 Maintainer: Yongming Andrew Sun MaintainerEmail: sunya at appliedbiosystems.com git_url: https://git.bioconductor.org/packages/ABarray git_branch: devel git_last_commit: 839d701 git_last_commit_date: 2025-10-29 09:58:09 -0500 (Wed, 29 Oct 2025)