Package: variants Version: 1.33.1 Command: /Library/Frameworks/R.framework/Resources/bin/R CMD INSTALL variants StartedAt: 2025-10-28 13:00:26 -0400 (Tue, 28 Oct 2025) EndedAt: 2025-10-28 13:00:48 -0400 (Tue, 28 Oct 2025) EllapsedTime: 21.7 seconds RetCode: 0 Status: OK