Package: variants Version: 1.33.1 Command: /Library/Frameworks/R.framework/Resources/bin/R CMD build --keep-empty-dirs --no-resave-data variants StartedAt: 2025-10-28 13:10:24 -0400 (Tue, 28 Oct 2025) EndedAt: 2025-10-28 13:11:53 -0400 (Tue, 28 Oct 2025) EllapsedTime: 88.7 seconds RetCode: 0 Status: OK PackageFile: variants_1.33.1.tar.gz PackageFileSize: 4.84 MiB