Package: spicyWorkflow Version: 1.9.0 Command: /home/biocbuild/bbs-3.22-bioc/R/bin/R CMD INSTALL spicyWorkflow StartedAt: 2025-09-30 13:00:13 -0400 (Tue, 30 Sep 2025) EndedAt: 2025-09-30 13:00:18 -0400 (Tue, 30 Sep 2025) EllapsedTime: 4.4 seconds RetCode: 0 Status: OK