Package: spicyWorkflow Version: 1.10.0 Command: /Library/Frameworks/R.framework/Resources/bin/R CMD INSTALL spicyWorkflow StartedAt: 2025-11-04 13:01:14 -0500 (Tue, 04 Nov 2025) EndedAt: 2025-11-04 13:01:21 -0500 (Tue, 04 Nov 2025) EllapsedTime: 6.4 seconds RetCode: 0 Status: OK