Package: spicyWorkflow Version: 1.10.0 Command: /Library/Frameworks/R.framework/Resources/bin/R CMD build --keep-empty-dirs --no-resave-data spicyWorkflow StartedAt: 2025-11-04 13:11:11 -0500 (Tue, 04 Nov 2025) EndedAt: 2025-11-04 13:38:47 -0500 (Tue, 04 Nov 2025) EllapsedTime: 1655.8 seconds RetCode: 0 Status: OK PackageFile: spicyWorkflow_1.10.0.tar.gz PackageFileSize: 245 MiB