Package: simpleSingleCell Version: 1.34.0 Command: /Library/Frameworks/R.framework/Resources/bin/R CMD build --keep-empty-dirs --no-resave-data simpleSingleCell StartedAt: 2025-11-04 13:10:27 -0500 (Tue, 04 Nov 2025) EndedAt: 2025-11-04 13:10:59 -0500 (Tue, 04 Nov 2025) EllapsedTime: 31.9 seconds RetCode: 0 Status: OK PackageFile: simpleSingleCell_1.34.0.tar.gz PackageFileSize: 2.741 MiB